BEGIN:VCALENDAR
VERSION:2.0
PRODID:-//Central Ohio Retired Fire Fighters - ECPv6.15.20//NONSGML v1.0//EN
CALSCALE:GREGORIAN
METHOD:PUBLISH
X-WR-CALNAME:Central Ohio Retired Fire Fighters
X-ORIGINAL-URL:https://www.centohretfirefighters.com
X-WR-CALDESC:Events for Central Ohio Retired Fire Fighters
REFRESH-INTERVAL;VALUE=DURATION:PT1H
X-Robots-Tag:noindex
X-PUBLISHED-TTL:PT1H
BEGIN:VTIMEZONE
TZID:UTC
BEGIN:STANDARD
TZOFFSETFROM:+0000
TZOFFSETTO:+0000
TZNAME:UTC
DTSTART:20250101T000000
END:STANDARD
END:VTIMEZONE
BEGIN:VEVENT
DTSTART;TZID=UTC:20260603T120000
DTEND;TZID=UTC:20260603T130000
DTSTAMP:20260423T165842
CREATED:20241231T215246Z
LAST-MODIFIED:20241231T215246Z
UID:10000049-1780488000-1780491600@www.centohretfirefighters.com
SUMMARY:4 Unit Meeting
DESCRIPTION:All meetings are held the 1st Wednesday of each month at 12 noon\, located at the CFD Local 67 Hall\, 379 West Broad Street.\n4 Unit Snow Emergency Policy: On days that our regularly scheduled 4 Unit meeting at 8:00 am if Franklin County is under a Level 2 Snow Emergency\, the 4 Unit policy will be that months meeting is canceled. \n 
URL:https://www.centohretfirefighters.com/event/4-unit-meeting-2/2026-06-03/
LOCATION:CFD Local 67 379 West Broad Street\, Columbus\, OH\, 379 West Broad Street\, Columbus\, OH\, 43215
END:VEVENT
BEGIN:VEVENT
DTSTART;TZID=UTC:20260617T180000
DTEND;TZID=UTC:20260617T210000
DTSTAMP:20260423T165842
CREATED:20260204T171912Z
LAST-MODIFIED:20260204T171912Z
UID:10000148-1781719200-1781730000@www.centohretfirefighters.com
SUMMARY:4 Unit Banquet
DESCRIPTION:
URL:https://www.centohretfirefighters.com/event/4-unit-banquet-3/
LOCATION:CFD Local 67 379 West Broad Street\, Columbus\, OH\, 379 West Broad Street\, Columbus\, OH\, 43215
END:VEVENT
END:VCALENDAR