BEGIN:VCALENDAR
VERSION:2.0
PRODID:-//Central Ohio Retired Fire Fighters - ECPv6.15.20//NONSGML v1.0//EN
CALSCALE:GREGORIAN
METHOD:PUBLISH
X-ORIGINAL-URL:https://www.centohretfirefighters.com
X-WR-CALDESC:Events for Central Ohio Retired Fire Fighters
REFRESH-INTERVAL;VALUE=DURATION:PT1H
X-Robots-Tag:noindex
X-PUBLISHED-TTL:PT1H
BEGIN:VTIMEZONE
TZID:UTC
BEGIN:STANDARD
TZOFFSETFROM:+0000
TZOFFSETTO:+0000
TZNAME:UTC
DTSTART:20250101T000000
END:STANDARD
END:VTIMEZONE
BEGIN:VEVENT
DTSTART;TZID=UTC:20260506T120000
DTEND;TZID=UTC:20260506T130000
DTSTAMP:20260423T153233
CREATED:20241231T215246Z
LAST-MODIFIED:20241231T215246Z
UID:10000048-1778068800-1778072400@www.centohretfirefighters.com
SUMMARY:4 Unit Meeting
DESCRIPTION:All meetings are held the 1st Wednesday of each month at 12 noon\, located at the CFD Local 67 Hall\, 379 West Broad Street.\n4 Unit Snow Emergency Policy: On days that our regularly scheduled 4 Unit meeting at 8:00 am if Franklin County is under a Level 2 Snow Emergency\, the 4 Unit policy will be that months meeting is canceled. \n 
URL:https://www.centohretfirefighters.com/event/4-unit-meeting-2/2026-05-06/
LOCATION:CFD Local 67 379 West Broad Street\, Columbus\, OH\, 379 West Broad Street\, Columbus\, OH\, 43215
END:VEVENT
BEGIN:VEVENT
DTSTART;TZID=UTC:20260514T180000
DTEND;TZID=UTC:20260514T220000
DTSTAMP:20260423T153233
CREATED:20260407T142613Z
LAST-MODIFIED:20260407T142613Z
UID:10000152-1778781600-1778796000@www.centohretfirefighters.com
SUMMARY:Mike Powell Retirement
DESCRIPTION:
URL:https://www.centohretfirefighters.com/event/mike-powell-retirement/
LOCATION:CFD Local 67 379 West Broad Street\, Columbus\, OH\, 379 West Broad Street\, Columbus\, OH\, 43215
END:VEVENT
END:VCALENDAR