BEGIN:VCALENDAR
VERSION:2.0
PRODID:-//Central Ohio Retired Fire Fighters - ECPv6.15.20//NONSGML v1.0//EN
CALSCALE:GREGORIAN
METHOD:PUBLISH
X-ORIGINAL-URL:https://www.centohretfirefighters.com
X-WR-CALDESC:Events for Central Ohio Retired Fire Fighters
REFRESH-INTERVAL;VALUE=DURATION:PT1H
X-Robots-Tag:noindex
X-PUBLISHED-TTL:PT1H
BEGIN:VTIMEZONE
TZID:UTC
BEGIN:STANDARD
TZOFFSETFROM:+0000
TZOFFSETTO:+0000
TZNAME:UTC
DTSTART:20250101T000000
END:STANDARD
END:VTIMEZONE
BEGIN:VEVENT
DTSTART;TZID=UTC:20260204T120000
DTEND;TZID=UTC:20260204T130000
DTSTAMP:20260423T170652
CREATED:20241231T215246Z
LAST-MODIFIED:20241231T215246Z
UID:10000045-1770206400-1770210000@www.centohretfirefighters.com
SUMMARY:4 Unit Meeting
DESCRIPTION:All meetings are held the 1st Wednesday of each month at 12 noon\, located at the CFD Local 67 Hall\, 379 West Broad Street.\n4 Unit Snow Emergency Policy: On days that our regularly scheduled 4 Unit meeting at 8:00 am if Franklin County is under a Level 2 Snow Emergency\, the 4 Unit policy will be that months meeting is canceled. \n 
URL:https://www.centohretfirefighters.com/event/4-unit-meeting-2/2026-02-04/
LOCATION:CFD Local 67 379 West Broad Street\, Columbus\, OH\, 379 West Broad Street\, Columbus\, OH\, 43215
END:VEVENT
BEGIN:VEVENT
DTSTART;TZID=UTC:20260220T170000
DTEND;TZID=UTC:20260220T210000
DTSTAMP:20260423T170652
CREATED:20260114T174043Z
LAST-MODIFIED:20260114T174043Z
UID:10000145-1771606800-1771621200@www.centohretfirefighters.com
SUMMARY:Capt. Bobby Vachio Retirement
DESCRIPTION:
URL:https://www.centohretfirefighters.com/event/capt-bobby-vachio-retirement/
LOCATION:CFD Local 67 379 West Broad Street\, Columbus\, OH\, 379 West Broad Street\, Columbus\, OH\, 43215
END:VEVENT
BEGIN:VEVENT
DTSTART;TZID=UTC:20260223T170000
DTEND;TZID=UTC:20260223T210000
DTSTAMP:20260423T170652
CREATED:20260131T164731Z
LAST-MODIFIED:20260131T164731Z
UID:10000147-1771866000-1771880400@www.centohretfirefighters.com
SUMMARY:Chief Happ Retirement
DESCRIPTION:
URL:https://www.centohretfirefighters.com/event/chief-happ-retirement/
LOCATION:CFD Local 67 379 West Broad Street\, Columbus\, OH\, 379 West Broad Street\, Columbus\, OH\, 43215
END:VEVENT
BEGIN:VEVENT
DTSTART;TZID=UTC:20260227T100000
DTEND;TZID=UTC:20260227T140000
DTSTAMP:20260423T170652
CREATED:20250825T182918Z
LAST-MODIFIED:20250825T182918Z
UID:10000135-1772186400-1772200800@www.centohretfirefighters.com
SUMMARY:Sunshine Picnic
DESCRIPTION:
URL:https://www.centohretfirefighters.com/event/sunshine-picnic/
LOCATION:OH
END:VEVENT
END:VCALENDAR