BEGIN:VCALENDAR
VERSION:2.0
PRODID:-//Central Ohio Retired Fire Fighters - ECPv6.15.20//NONSGML v1.0//EN
CALSCALE:GREGORIAN
METHOD:PUBLISH
X-WR-CALNAME:Central Ohio Retired Fire Fighters
X-ORIGINAL-URL:https://www.centohretfirefighters.com
X-WR-CALDESC:Events for Central Ohio Retired Fire Fighters
REFRESH-INTERVAL;VALUE=DURATION:PT1H
X-Robots-Tag:noindex
X-PUBLISHED-TTL:PT1H
BEGIN:VTIMEZONE
TZID:UTC
BEGIN:STANDARD
TZOFFSETFROM:+0000
TZOFFSETTO:+0000
TZNAME:UTC
DTSTART:20240101T000000
END:STANDARD
END:VTIMEZONE
BEGIN:VEVENT
DTSTART;TZID=UTC:20251105T120000
DTEND;TZID=UTC:20251105T130000
DTSTAMP:20260424T144043
CREATED:20241231T215246Z
LAST-MODIFIED:20241231T215246Z
UID:10000042-1762344000-1762347600@www.centohretfirefighters.com
SUMMARY:4 Unit Meeting
DESCRIPTION:All meetings are held the 1st Wednesday of each month at 12 noon\, located at the CFD Local 67 Hall\, 379 West Broad Street.\n4 Unit Snow Emergency Policy: On days that our regularly scheduled 4 Unit meeting at 8:00 am if Franklin County is under a Level 2 Snow Emergency\, the 4 Unit policy will be that months meeting is canceled. \n 
URL:https://www.centohretfirefighters.com/event/4-unit-meeting-2/2025-11-05/
LOCATION:CFD Local 67 379 West Broad Street\, Columbus\, OH\, 379 West Broad Street\, Columbus\, OH\, 43215
END:VEVENT
BEGIN:VEVENT
DTSTART;TZID=UTC:20251105T120000
DTEND;TZID=UTC:20251105T130000
DTSTAMP:20260424T144043
CREATED:20250825T183100Z
LAST-MODIFIED:20250825T183100Z
UID:10000136-1762344000-1762347600@www.centohretfirefighters.com
SUMMARY:Honoring of those who passed in 2025 - 4 Unit Meeting
DESCRIPTION:
URL:https://www.centohretfirefighters.com/event/honoring-of-those-who-passed-in-2025-4-unit-meeting/
LOCATION:OH
END:VEVENT
BEGIN:VEVENT
DTSTART;TZID=UTC:20251105T180000
DTEND;TZID=UTC:20251105T210000
DTSTAMP:20260424T144043
CREATED:20251023T143226Z
LAST-MODIFIED:20251023T143226Z
UID:10000142-1762365600-1762376400@www.centohretfirefighters.com
SUMMARY:Chris Hiles Retirement Celebration
DESCRIPTION:
URL:https://www.centohretfirefighters.com/event/chris-hiles-retirement-celebration/
LOCATION:Roosters Pickerington\, Ohio\, 1500 Stonecreek Dr\, Pickerington\, OH\, 43147
END:VEVENT
BEGIN:VEVENT
DTSTART;TZID=UTC:20251113T170000
DTEND;TZID=UTC:20251113T210000
DTSTAMP:20260424T144043
CREATED:20251010T195835Z
LAST-MODIFIED:20251010T195835Z
UID:10000141-1763053200-1763067600@www.centohretfirefighters.com
SUMMARY:Ron Taylor Retirement Party
DESCRIPTION:
URL:https://www.centohretfirefighters.com/event/ron-taylor-retirement-party/
LOCATION:CFD Local 67 379 West Broad Street\, Columbus\, OH\, 379 West Broad Street\, Columbus\, OH\, 43215
END:VEVENT
END:VCALENDAR