BEGIN:VCALENDAR
VERSION:2.0
PRODID:-//Central Ohio Retired Fire Fighters - ECPv6.15.20//NONSGML v1.0//EN
CALSCALE:GREGORIAN
METHOD:PUBLISH
X-WR-CALNAME:Central Ohio Retired Fire Fighters
X-ORIGINAL-URL:https://www.centohretfirefighters.com
X-WR-CALDESC:Events for Central Ohio Retired Fire Fighters
REFRESH-INTERVAL;VALUE=DURATION:PT1H
X-Robots-Tag:noindex
X-PUBLISHED-TTL:PT1H
BEGIN:VTIMEZONE
TZID:UTC
BEGIN:STANDARD
TZOFFSETFROM:+0000
TZOFFSETTO:+0000
TZNAME:UTC
DTSTART:20240101T000000
END:STANDARD
END:VTIMEZONE
BEGIN:VEVENT
DTSTART;TZID=UTC:20251001T120000
DTEND;TZID=UTC:20251001T130000
DTSTAMP:20260424T160535
CREATED:20241231T215246Z
LAST-MODIFIED:20241231T215246Z
UID:10000041-1759320000-1759323600@www.centohretfirefighters.com
SUMMARY:4 Unit Meeting
DESCRIPTION:All meetings are held the 1st Wednesday of each month at 12 noon\, located at the CFD Local 67 Hall\, 379 West Broad Street.\n4 Unit Snow Emergency Policy: On days that our regularly scheduled 4 Unit meeting at 8:00 am if Franklin County is under a Level 2 Snow Emergency\, the 4 Unit policy will be that months meeting is canceled. \n 
URL:https://www.centohretfirefighters.com/event/4-unit-meeting-2/2025-10-01/
LOCATION:CFD Local 67 379 West Broad Street\, Columbus\, OH\, 379 West Broad Street\, Columbus\, OH\, 43215
END:VEVENT
BEGIN:VEVENT
DTSTART;TZID=UTC:20251024T170000
DTEND;TZID=UTC:20251024T210000
DTSTAMP:20260424T160535
CREATED:20251003T183718Z
LAST-MODIFIED:20251003T183742Z
UID:10000138-1761325200-1761339600@www.centohretfirefighters.com
SUMMARY:Lt. Jeff Yerian Retirement Party
DESCRIPTION:
URL:https://www.centohretfirefighters.com/event/lt-jeff-yerian-retirement-party/
LOCATION:Fireman’s Park at Buckeye Lake\, 11300 Honey Creek Road\, Thornville\, OH
END:VEVENT
BEGIN:VEVENT
DTSTART;TZID=UTC:20251028T170000
DTEND;TZID=UTC:20251028T210000
DTSTAMP:20260424T160535
CREATED:20251003T183852Z
LAST-MODIFIED:20251003T183852Z
UID:10000139-1761670800-1761685200@www.centohretfirefighters.com
SUMMARY:Timothy Moore Retirement Party
DESCRIPTION:
URL:https://www.centohretfirefighters.com/event/timothy-moore-retirement-party/
LOCATION:CFD Local 67 379 West Broad Street\, Columbus\, OH\, 379 West Broad Street\, Columbus\, OH\, 43215
END:VEVENT
BEGIN:VEVENT
DTSTART;TZID=UTC:20251029T120000
DTEND;TZID=UTC:20251029T130000
DTSTAMP:20260424T160535
CREATED:20251006T211755Z
LAST-MODIFIED:20251006T211755Z
UID:10000140-1761739200-1761742800@www.centohretfirefighters.com
SUMMARY:Tim Hannum Retirement Lunch
DESCRIPTION:
URL:https://www.centohretfirefighters.com/event/tim-hannum-retirement-lunch/
LOCATION:Prairie Twp. St\, 123 Inah Ave. Columbus\, Ohio 43228
END:VEVENT
END:VCALENDAR