BEGIN:VCALENDAR
VERSION:2.0
PRODID:-//Central Ohio Retired Fire Fighters - ECPv6.15.20//NONSGML v1.0//EN
CALSCALE:GREGORIAN
METHOD:PUBLISH
X-ORIGINAL-URL:https://www.centohretfirefighters.com
X-WR-CALDESC:Events for Central Ohio Retired Fire Fighters
REFRESH-INTERVAL;VALUE=DURATION:PT1H
X-Robots-Tag:noindex
X-PUBLISHED-TTL:PT1H
BEGIN:VTIMEZONE
TZID:UTC
BEGIN:STANDARD
TZOFFSETFROM:+0000
TZOFFSETTO:+0000
TZNAME:UTC
DTSTART:20230101T000000
END:STANDARD
END:VTIMEZONE
BEGIN:VEVENT
DTSTART;TZID=UTC:20240914T110000
DTEND;TZID=UTC:20240914T150000
DTSTAMP:20260425T104446
CREATED:20240117T210020Z
LAST-MODIFIED:20240117T210020Z
UID:10000093-1726311600-1726326000@www.centohretfirefighters.com
SUMMARY:4 Unit Picnic
DESCRIPTION:
URL:https://www.centohretfirefighters.com/event/4-unit-picnic/
LOCATION:OH
END:VEVENT
END:VCALENDAR