BEGIN:VCALENDAR
VERSION:2.0
PRODID:-//Central Ohio Retired Fire Fighters - ECPv6.15.20//NONSGML v1.0//EN
CALSCALE:GREGORIAN
METHOD:PUBLISH
X-ORIGINAL-URL:https://www.centohretfirefighters.com
X-WR-CALDESC:Events for Central Ohio Retired Fire Fighters
REFRESH-INTERVAL;VALUE=DURATION:PT1H
X-Robots-Tag:noindex
X-PUBLISHED-TTL:PT1H
BEGIN:VTIMEZONE
TZID:UTC
BEGIN:STANDARD
TZOFFSETFROM:+0000
TZOFFSETTO:+0000
TZNAME:UTC
DTSTART:20230101T000000
END:STANDARD
END:VTIMEZONE
BEGIN:VEVENT
DTSTART;TZID=UTC:20240703T120000
DTEND;TZID=UTC:20240703T130000
DTSTAMP:20260425T133327
CREATED:20221125T144515Z
LAST-MODIFIED:20230524T141259Z
UID:10000026-1720008000-1720011600@www.centohretfirefighters.com
SUMMARY:4 Unit Meeting
DESCRIPTION:All meetings are held the 1st Wednesday of each month at 12 noon\, located at the CFD Local 67 Hall\, 379 West Broad Street.\n4 Unit Snow Emergency Policy: On days that our regularly scheduled 4 Unit meeting at 8:00 am if Franklin County is under a Level 2 Snow Emergency\, the 4 Unit policy will be that months meeting is canceled. \nNeed a Ride?  Active CFD Firefighter Spencer Stanley has received permission from CFD Chief Happ to use Fire Division transport vans to assist 4 Unit members the opportunity to attend our monthly meetings.  Obviously\, transports are limited for greater Central Ohio.  For information and to schedule a ride\, contact one of our Chaplains:  Chaplain Baker at 614-257-8560 or Chaplain Ingram at 614-402-4442
URL:https://www.centohretfirefighters.com/event/4-unit-meeting/2024-07-03/
LOCATION:CFD Local 67 379 West Broad Street\, Columbus\, OH\, 379 West Broad Street\, Columbus\, OH\, 43215
END:VEVENT
BEGIN:VEVENT
DTSTART;TZID=UTC:20240723T170000
DTEND;TZID=UTC:20240723T210000
DTSTAMP:20260425T133327
CREATED:20240507T142930Z
LAST-MODIFIED:20240507T142930Z
UID:10000105-1721754000-1721768400@www.centohretfirefighters.com
SUMMARY:Bn Ch Sean Moore\, CFD Retirement
DESCRIPTION:
URL:https://www.centohretfirefighters.com/event/bn-ch-sean-moore-cfd-retirement/
LOCATION:CFD Local 67 379 West Broad Street\, Columbus\, OH\, 379 West Broad Street\, Columbus\, OH\, 43215
END:VEVENT
BEGIN:VEVENT
DTSTART;TZID=UTC:20240725T180000
DTEND;TZID=UTC:20240725T210000
DTSTAMP:20260425T133327
CREATED:20240616T193849Z
LAST-MODIFIED:20240616T193849Z
UID:10000108-1721930400-1721941200@www.centohretfirefighters.com
SUMMARY:Joe Bocook Retirement
DESCRIPTION:
URL:https://www.centohretfirefighters.com/event/joe-bocook-retirement/
LOCATION:CFD Local 67 379 West Broad Street\, Columbus\, OH\, 379 West Broad Street\, Columbus\, OH\, 43215
END:VEVENT
END:VCALENDAR