BEGIN:VCALENDAR
VERSION:2.0
PRODID:-//Central Ohio Retired Fire Fighters - ECPv6.15.20//NONSGML v1.0//EN
CALSCALE:GREGORIAN
METHOD:PUBLISH
X-WR-CALNAME:Central Ohio Retired Fire Fighters
X-ORIGINAL-URL:https://www.centohretfirefighters.com
X-WR-CALDESC:Events for Central Ohio Retired Fire Fighters
REFRESH-INTERVAL;VALUE=DURATION:PT1H
X-Robots-Tag:noindex
X-PUBLISHED-TTL:PT1H
BEGIN:VTIMEZONE
TZID:UTC
BEGIN:STANDARD
TZOFFSETFROM:+0000
TZOFFSETTO:+0000
TZNAME:UTC
DTSTART:20230101T000000
END:STANDARD
END:VTIMEZONE
BEGIN:VEVENT
DTSTART;TZID=UTC:20240201T123000
DTEND;TZID=UTC:20240201T140000
DTSTAMP:20260425T210846
CREATED:20240125T163358Z
LAST-MODIFIED:20240125T163358Z
UID:10000097-1706790600-1706796000@www.centohretfirefighters.com
SUMMARY:Bill Ehrgood Retirement
DESCRIPTION:
URL:https://www.centohretfirefighters.com/event/bill-ehrgood-retirement/
LOCATION:Columbus Fire Academy\, 3639 Parsons Ave\, Columbus\, OH\, 43207\, United States
END:VEVENT
BEGIN:VEVENT
DTSTART;TZID=UTC:20240202T130000
DTEND;TZID=UTC:20240202T150000
DTSTAMP:20260425T210847
CREATED:20240125T163618Z
LAST-MODIFIED:20240125T163618Z
UID:10000098-1706878800-1706886000@www.centohretfirefighters.com
SUMMARY:Doug Simmons Retirement
DESCRIPTION:
URL:https://www.centohretfirefighters.com/event/doug-simmons-retirement/
LOCATION:Liberty Twp.\, Station 322\, 10150 Sawmill Parkway\, Powell\, OH\, 43065
END:VEVENT
BEGIN:VEVENT
DTSTART;TZID=UTC:20240207T120000
DTEND;TZID=UTC:20240207T130000
DTSTAMP:20260425T210847
CREATED:20221125T144515Z
LAST-MODIFIED:20230524T141259Z
UID:10000021-1707307200-1707310800@www.centohretfirefighters.com
SUMMARY:4 Unit Meeting
DESCRIPTION:All meetings are held the 1st Wednesday of each month at 12 noon\, located at the CFD Local 67 Hall\, 379 West Broad Street.\n4 Unit Snow Emergency Policy: On days that our regularly scheduled 4 Unit meeting at 8:00 am if Franklin County is under a Level 2 Snow Emergency\, the 4 Unit policy will be that months meeting is canceled. \nNeed a Ride?  Active CFD Firefighter Spencer Stanley has received permission from CFD Chief Happ to use Fire Division transport vans to assist 4 Unit members the opportunity to attend our monthly meetings.  Obviously\, transports are limited for greater Central Ohio.  For information and to schedule a ride\, contact one of our Chaplains:  Chaplain Baker at 614-257-8560 or Chaplain Ingram at 614-402-4442
URL:https://www.centohretfirefighters.com/event/4-unit-meeting/2024-02-07/
LOCATION:CFD Local 67 379 West Broad Street\, Columbus\, OH\, 379 West Broad Street\, Columbus\, OH\, 43215
END:VEVENT
BEGIN:VEVENT
DTSTART;TZID=UTC:20240217T170000
DTEND;TZID=UTC:20240217T183000
DTSTAMP:20260425T210847
CREATED:20231215T224626Z
LAST-MODIFIED:20231215T224626Z
UID:10000091-1708189200-1708194600@www.centohretfirefighters.com
SUMMARY:A/C Chris Blair Retirement
DESCRIPTION:
URL:https://www.centohretfirefighters.com/event/a-c-chris-blair-retirement/
LOCATION:CFD Local 67 379 West Broad Street\, Columbus\, OH\, 379 West Broad Street\, Columbus\, OH\, 43215
END:VEVENT
BEGIN:VEVENT
DTSTART;TZID=UTC:20240220T170000
DTEND;TZID=UTC:20240220T210000
DTSTAMP:20260425T210847
CREATED:20231206T203859Z
LAST-MODIFIED:20231206T203859Z
UID:10000088-1708448400-1708462800@www.centohretfirefighters.com
SUMMARY:Laura Elford Retirement
DESCRIPTION:
URL:https://www.centohretfirefighters.com/event/laura-elford-retirement/
LOCATION:CFD Local 67 379 West Broad Street\, Columbus\, OH\, 379 West Broad Street\, Columbus\, OH\, 43215
END:VEVENT
BEGIN:VEVENT
DTSTART;TZID=UTC:20240223T100000
DTEND;TZID=UTC:20240223T140000
DTSTAMP:20260425T210847
CREATED:20231206T204140Z
LAST-MODIFIED:20231206T204140Z
UID:10000089-1708682400-1708696800@www.centohretfirefighters.com
SUMMARY:Sunshine Chapter Picnic
DESCRIPTION:
URL:https://www.centohretfirefighters.com/event/sunshine-chapter-picnic/
LOCATION:American Legion Post 103\, 2102 Taylor Road\, Punta Gorda\, FL\, 33950\, United States
END:VEVENT
BEGIN:VEVENT
DTSTART;TZID=UTC:20240227T180000
DTEND;TZID=UTC:20240227T210000
DTSTAMP:20260425T210847
CREATED:20231206T204353Z
LAST-MODIFIED:20231206T204353Z
UID:10000090-1709056800-1709067600@www.centohretfirefighters.com
SUMMARY:Jimmy Eblin Retirement
DESCRIPTION:
URL:https://www.centohretfirefighters.com/event/jimmy-eblin-retirement/
LOCATION:CFD Local 67 379 West Broad Street\, Columbus\, OH\, 379 West Broad Street\, Columbus\, OH\, 43215
END:VEVENT
END:VCALENDAR