BEGIN:VCALENDAR
VERSION:2.0
PRODID:-//Central Ohio Retired Fire Fighters - ECPv6.15.20//NONSGML v1.0//EN
CALSCALE:GREGORIAN
METHOD:PUBLISH
X-WR-CALNAME:Central Ohio Retired Fire Fighters
X-ORIGINAL-URL:https://www.centohretfirefighters.com
X-WR-CALDESC:Events for Central Ohio Retired Fire Fighters
REFRESH-INTERVAL;VALUE=DURATION:PT1H
X-Robots-Tag:noindex
X-PUBLISHED-TTL:PT1H
BEGIN:VTIMEZONE
TZID:UTC
BEGIN:STANDARD
TZOFFSETFROM:+0000
TZOFFSETTO:+0000
TZNAME:UTC
DTSTART:20220101T000000
END:STANDARD
END:VTIMEZONE
BEGIN:VEVENT
DTSTART;TZID=UTC:20230909T120000
DTEND;TZID=UTC:20230909T170000
DTSTAMP:20260426T040813
CREATED:20230524T143104Z
LAST-MODIFIED:20230524T144932Z
UID:10000081-1694260800-1694278800@www.centohretfirefighters.com
SUMMARY:#4 Unit Summer Picnic
DESCRIPTION:Summer Picnic at Buckeye Lake –  Fireman’s Park\, 11300 Honey Creek Rd\, Thornville\, OH 43076 \nPot Luck – please bring your favorite dish to share.  We’ll eat at noon. \n$500 worth of door prizes
URL:https://www.centohretfirefighters.com/event/4-unit-summer-picnic/
LOCATION:OH
END:VEVENT
BEGIN:VEVENT
DTSTART;TZID=UTC:20230920T120000
DTEND;TZID=UTC:20230920T190000
DTSTAMP:20260426T040813
CREATED:20230817T002628Z
LAST-MODIFIED:20230817T002743Z
UID:10000086-1695211200-1695236400@www.centohretfirefighters.com
SUMMARY:1986-1988 "Best of Both Worlds" Reunion
DESCRIPTION:See Bulletin Boarrd for Details
URL:https://www.centohretfirefighters.com/event/101893/
LOCATION:Ten Pin Alley Bowling\, 5499 Ten Pin Alley Road\, Hilliard\, OH
END:VEVENT
END:VCALENDAR