BEGIN:VCALENDAR
VERSION:2.0
PRODID:-//Central Ohio Retired Fire Fighters - ECPv6.15.20//NONSGML v1.0//EN
CALSCALE:GREGORIAN
METHOD:PUBLISH
X-WR-CALNAME:Central Ohio Retired Fire Fighters
X-ORIGINAL-URL:https://www.centohretfirefighters.com
X-WR-CALDESC:Events for Central Ohio Retired Fire Fighters
REFRESH-INTERVAL;VALUE=DURATION:PT1H
X-Robots-Tag:noindex
X-PUBLISHED-TTL:PT1H
BEGIN:VTIMEZONE
TZID:UTC
BEGIN:STANDARD
TZOFFSETFROM:+0000
TZOFFSETTO:+0000
TZNAME:UTC
DTSTART:20230101T000000
END:STANDARD
END:VTIMEZONE
BEGIN:VEVENT
DTSTART;TZID=UTC:20250425T173000
DTEND;TZID=UTC:20250425T200000
DTSTAMP:20260424T002046
CREATED:20250331T182443Z
LAST-MODIFIED:20250331T182443Z
UID:10000124-1745602200-1745611200@www.centohretfirefighters.com
SUMMARY:Lt. Stu Mack Retirement
DESCRIPTION:
URL:https://www.centohretfirefighters.com/event/lt-stu-mack-retirement/
LOCATION:Vinberige Vineyards\, 5400 OH-204\, Glenford\, OH\, 43739
END:VEVENT
BEGIN:VEVENT
DTSTART;TZID=UTC:20250415T173000
DTEND;TZID=UTC:20250415T203000
DTSTAMP:20260424T002046
CREATED:20250226T200859Z
LAST-MODIFIED:20250226T200859Z
UID:10000119-1744738200-1744749000@www.centohretfirefighters.com
SUMMARY:Guy Tucker Retirement
DESCRIPTION:
URL:https://www.centohretfirefighters.com/event/guy-tucker-retirement/
LOCATION:CFD Local 67 379 West Broad Street\, Columbus\, OH\, 379 West Broad Street\, Columbus\, OH\, 43215
END:VEVENT
BEGIN:VEVENT
DTSTART;TZID=UTC:20250414T173000
DTEND;TZID=UTC:20250414T220000
DTSTAMP:20260424T002046
CREATED:20250226T200956Z
LAST-MODIFIED:20250302T183400Z
UID:10000120-1744651800-1744668000@www.centohretfirefighters.com
SUMMARY:Lt. Brian Hinton Retirement
DESCRIPTION:
URL:https://www.centohretfirefighters.com/event/lt-brian-hinton-retirement/
LOCATION:CFD Local 67 379 West Broad Street\, Columbus\, OH\, 379 West Broad Street\, Columbus\, OH\, 43215
END:VEVENT
BEGIN:VEVENT
DTSTART;TZID=UTC:20250411T170000
DTEND;TZID=UTC:20250411T200000
DTSTAMP:20260424T002046
CREATED:20250331T182224Z
LAST-MODIFIED:20250331T182224Z
UID:10000123-1744390800-1744401600@www.centohretfirefighters.com
SUMMARY:Capt. Mark Werner Retirement
DESCRIPTION:
URL:https://www.centohretfirefighters.com/event/capt-mark-werner-retirement/
LOCATION:Roosters Pickerington\, Ohio\, 1500 Stonecreek Dr\, Pickerington\, OH\, 43147
END:VEVENT
BEGIN:VEVENT
DTSTART;TZID=UTC:20250402T120000
DTEND;TZID=UTC:20250402T130000
DTSTAMP:20260424T002046
CREATED:20241231T215246Z
LAST-MODIFIED:20241231T215246Z
UID:10000035-1743595200-1743598800@www.centohretfirefighters.com
SUMMARY:4 Unit Meeting
DESCRIPTION:All meetings are held the 1st Wednesday of each month at 12 noon\, located at the CFD Local 67 Hall\, 379 West Broad Street.\n4 Unit Snow Emergency Policy: On days that our regularly scheduled 4 Unit meeting at 8:00 am if Franklin County is under a Level 2 Snow Emergency\, the 4 Unit policy will be that months meeting is canceled. \n 
URL:https://www.centohretfirefighters.com/event/4-unit-meeting-2/2025-04-02/
LOCATION:CFD Local 67 379 West Broad Street\, Columbus\, OH\, 379 West Broad Street\, Columbus\, OH\, 43215
END:VEVENT
BEGIN:VEVENT
DTSTART;TZID=UTC:20250305T120000
DTEND;TZID=UTC:20250305T130000
DTSTAMP:20260424T002046
CREATED:20241231T215246Z
LAST-MODIFIED:20241231T215246Z
UID:10000034-1741176000-1741179600@www.centohretfirefighters.com
SUMMARY:4 Unit Meeting
DESCRIPTION:All meetings are held the 1st Wednesday of each month at 12 noon\, located at the CFD Local 67 Hall\, 379 West Broad Street.\n4 Unit Snow Emergency Policy: On days that our regularly scheduled 4 Unit meeting at 8:00 am if Franklin County is under a Level 2 Snow Emergency\, the 4 Unit policy will be that months meeting is canceled. \n 
URL:https://www.centohretfirefighters.com/event/4-unit-meeting-2/2025-03-05/
LOCATION:CFD Local 67 379 West Broad Street\, Columbus\, OH\, 379 West Broad Street\, Columbus\, OH\, 43215
END:VEVENT
BEGIN:VEVENT
DTSTART;TZID=UTC:20250213T153000
DTEND;TZID=UTC:20250213T200000
DTSTAMP:20260424T002046
CREATED:20250113T183004Z
LAST-MODIFIED:20250113T183004Z
UID:10000117-1739460600-1739476800@www.centohretfirefighters.com
SUMMARY:FF Rodney Dommer Retirement
DESCRIPTION:
URL:https://www.centohretfirefighters.com/event/ff-rodney-dommer-retirement/
LOCATION:CFD Local 67 379 West Broad Street\, Columbus\, OH\, 379 West Broad Street\, Columbus\, OH\, 43215
END:VEVENT
BEGIN:VEVENT
DTSTART;TZID=UTC:20250205T120000
DTEND;TZID=UTC:20250205T130000
DTSTAMP:20260424T002046
CREATED:20241231T215246Z
LAST-MODIFIED:20241231T215246Z
UID:10000033-1738756800-1738760400@www.centohretfirefighters.com
SUMMARY:4 Unit Meeting
DESCRIPTION:All meetings are held the 1st Wednesday of each month at 12 noon\, located at the CFD Local 67 Hall\, 379 West Broad Street.\n4 Unit Snow Emergency Policy: On days that our regularly scheduled 4 Unit meeting at 8:00 am if Franklin County is under a Level 2 Snow Emergency\, the 4 Unit policy will be that months meeting is canceled. \n 
URL:https://www.centohretfirefighters.com/event/4-unit-meeting-2/2025-02-05/
LOCATION:CFD Local 67 379 West Broad Street\, Columbus\, OH\, 379 West Broad Street\, Columbus\, OH\, 43215
END:VEVENT
BEGIN:VEVENT
DTSTART;TZID=UTC:20250131T170000
DTEND;TZID=UTC:20250131T210000
DTSTAMP:20260424T002046
CREATED:20241231T213926Z
LAST-MODIFIED:20241231T213926Z
UID:10000113-1738342800-1738357200@www.centohretfirefighters.com
SUMMARY:Rich Thompson Retirement Party
DESCRIPTION:
URL:https://www.centohretfirefighters.com/event/rich-thompson-retirement-party/
LOCATION:CFD Local 67 379 West Broad Street\, Columbus\, OH\, 379 West Broad Street\, Columbus\, OH\, 43215
END:VEVENT
BEGIN:VEVENT
DTSTART;TZID=UTC:20250119T170000
DTEND;TZID=UTC:20250119T210000
DTSTAMP:20260424T002046
CREATED:20241231T214048Z
LAST-MODIFIED:20241231T214152Z
UID:10000114-1737306000-1737320400@www.centohretfirefighters.com
SUMMARY:Troy Brumfield Retirement Party
DESCRIPTION:
URL:https://www.centohretfirefighters.com/event/sean-orourke-retirement-party/
LOCATION:CFD Local 67 379 West Broad Street\, Columbus\, OH\, 379 West Broad Street\, Columbus\, OH\, 43215
END:VEVENT
BEGIN:VEVENT
DTSTART;TZID=UTC:20250117T170000
DTEND;TZID=UTC:20250117T210000
DTSTAMP:20260424T002046
CREATED:20241231T215021Z
LAST-MODIFIED:20241231T215021Z
UID:10000115-1737133200-1737147600@www.centohretfirefighters.com
SUMMARY:Sean O'Rourke Retirement Party
DESCRIPTION:
URL:https://www.centohretfirefighters.com/event/sean-orourke-retirement-party-2/
LOCATION:CFD Local 67 379 West Broad Street\, Columbus\, OH\, 379 West Broad Street\, Columbus\, OH\, 43215
END:VEVENT
BEGIN:VEVENT
DTSTART;TZID=UTC:20250101T120000
DTEND;TZID=UTC:20250101T130000
DTSTAMP:20260424T002046
CREATED:20241231T215246Z
LAST-MODIFIED:20241231T215246Z
UID:10000032-1735732800-1735736400@www.centohretfirefighters.com
SUMMARY:4 Unit Meeting
DESCRIPTION:All meetings are held the 1st Wednesday of each month at 12 noon\, located at the CFD Local 67 Hall\, 379 West Broad Street.\n4 Unit Snow Emergency Policy: On days that our regularly scheduled 4 Unit meeting at 8:00 am if Franklin County is under a Level 2 Snow Emergency\, the 4 Unit policy will be that months meeting is canceled. \n 
URL:https://www.centohretfirefighters.com/event/4-unit-meeting-2/2025-01-01/
LOCATION:CFD Local 67 379 West Broad Street\, Columbus\, OH\, 379 West Broad Street\, Columbus\, OH\, 43215
END:VEVENT
BEGIN:VEVENT
DTSTART;VALUE=DATE:20250101
DTEND;VALUE=DATE:20250102
DTSTAMP:20260424T002046
CREATED:20241231T215424Z
LAST-MODIFIED:20241231T215424Z
UID:10000116-1735689600-1735775999@www.centohretfirefighters.com
SUMMARY:NO JANUARY MTG
DESCRIPTION:There is no January meeting as the first Wednesday is also New Years Day.  No other dates were available to schedule for an alternative meeting date.
URL:https://www.centohretfirefighters.com/event/no-january-mtg/
LOCATION:OH
END:VEVENT
BEGIN:VEVENT
DTSTART;TZID=UTC:20241204T120000
DTEND;TZID=UTC:20241204T130000
DTSTAMP:20260424T002046
CREATED:20221125T144515Z
LAST-MODIFIED:20230524T141259Z
UID:10000031-1733313600-1733317200@www.centohretfirefighters.com
SUMMARY:4 Unit Meeting
DESCRIPTION:All meetings are held the 1st Wednesday of each month at 12 noon\, located at the CFD Local 67 Hall\, 379 West Broad Street.\n4 Unit Snow Emergency Policy: On days that our regularly scheduled 4 Unit meeting at 8:00 am if Franklin County is under a Level 2 Snow Emergency\, the 4 Unit policy will be that months meeting is canceled. \nNeed a Ride?  Active CFD Firefighter Spencer Stanley has received permission from CFD Chief Happ to use Fire Division transport vans to assist 4 Unit members the opportunity to attend our monthly meetings.  Obviously\, transports are limited for greater Central Ohio.  For information and to schedule a ride\, contact one of our Chaplains:  Chaplain Baker at 614-257-8560 or Chaplain Ingram at 614-402-4442
URL:https://www.centohretfirefighters.com/event/4-unit-meeting/2024-12-04/
LOCATION:CFD Local 67 379 West Broad Street\, Columbus\, OH\, 379 West Broad Street\, Columbus\, OH\, 43215
END:VEVENT
BEGIN:VEVENT
DTSTART;TZID=UTC:20241121T110000
DTEND;TZID=UTC:20241121T160000
DTSTAMP:20260424T002046
CREATED:20241028T184404Z
LAST-MODIFIED:20241028T184404Z
UID:10000112-1732186800-1732204800@www.centohretfirefighters.com
SUMMARY:11/28/88 CFD Recruit Class Get Togehter
DESCRIPTION:
URL:https://www.centohretfirefighters.com/event/11-28-88-cfd-recruit-class-get-togehter/
LOCATION:Planks\, 43 Parsons Ave\, Ohio\, 43206
END:VEVENT
BEGIN:VEVENT
DTSTART;TZID=UTC:20241114T170000
DTEND;TZID=UTC:20241114T210000
DTSTAMP:20260424T002046
CREATED:20241022T164942Z
LAST-MODIFIED:20241022T164942Z
UID:10000111-1731603600-1731618000@www.centohretfirefighters.com
SUMMARY:Link "Doug" Shell Retirement
DESCRIPTION:
URL:https://www.centohretfirefighters.com/event/link-doug-shell-retirement/
LOCATION:CFD Local 67 379 West Broad Street\, Columbus\, OH\, 379 West Broad Street\, Columbus\, OH\, 43215
END:VEVENT
BEGIN:VEVENT
DTSTART;TZID=UTC:20241106T120000
DTEND;TZID=UTC:20241106T130000
DTSTAMP:20260424T002046
CREATED:20221125T144515Z
LAST-MODIFIED:20230524T141259Z
UID:10000030-1730894400-1730898000@www.centohretfirefighters.com
SUMMARY:4 Unit Meeting
DESCRIPTION:All meetings are held the 1st Wednesday of each month at 12 noon\, located at the CFD Local 67 Hall\, 379 West Broad Street.\n4 Unit Snow Emergency Policy: On days that our regularly scheduled 4 Unit meeting at 8:00 am if Franklin County is under a Level 2 Snow Emergency\, the 4 Unit policy will be that months meeting is canceled. \nNeed a Ride?  Active CFD Firefighter Spencer Stanley has received permission from CFD Chief Happ to use Fire Division transport vans to assist 4 Unit members the opportunity to attend our monthly meetings.  Obviously\, transports are limited for greater Central Ohio.  For information and to schedule a ride\, contact one of our Chaplains:  Chaplain Baker at 614-257-8560 or Chaplain Ingram at 614-402-4442
URL:https://www.centohretfirefighters.com/event/4-unit-meeting/2024-11-06/
LOCATION:CFD Local 67 379 West Broad Street\, Columbus\, OH\, 379 West Broad Street\, Columbus\, OH\, 43215
END:VEVENT
BEGIN:VEVENT
DTSTART;TZID=UTC:20241002T120000
DTEND;TZID=UTC:20241002T130000
DTSTAMP:20260424T002046
CREATED:20221125T144515Z
LAST-MODIFIED:20230524T141259Z
UID:10000029-1727870400-1727874000@www.centohretfirefighters.com
SUMMARY:4 Unit Meeting
DESCRIPTION:All meetings are held the 1st Wednesday of each month at 12 noon\, located at the CFD Local 67 Hall\, 379 West Broad Street.\n4 Unit Snow Emergency Policy: On days that our regularly scheduled 4 Unit meeting at 8:00 am if Franklin County is under a Level 2 Snow Emergency\, the 4 Unit policy will be that months meeting is canceled. \nNeed a Ride?  Active CFD Firefighter Spencer Stanley has received permission from CFD Chief Happ to use Fire Division transport vans to assist 4 Unit members the opportunity to attend our monthly meetings.  Obviously\, transports are limited for greater Central Ohio.  For information and to schedule a ride\, contact one of our Chaplains:  Chaplain Baker at 614-257-8560 or Chaplain Ingram at 614-402-4442
URL:https://www.centohretfirefighters.com/event/4-unit-meeting/2024-10-02/
LOCATION:CFD Local 67 379 West Broad Street\, Columbus\, OH\, 379 West Broad Street\, Columbus\, OH\, 43215
END:VEVENT
BEGIN:VEVENT
DTSTART;TZID=UTC:20240914T110000
DTEND;TZID=UTC:20240914T150000
DTSTAMP:20260424T002046
CREATED:20240117T210020Z
LAST-MODIFIED:20240117T210020Z
UID:10000093-1726311600-1726326000@www.centohretfirefighters.com
SUMMARY:4 Unit Picnic
DESCRIPTION:
URL:https://www.centohretfirefighters.com/event/4-unit-picnic/
LOCATION:OH
END:VEVENT
BEGIN:VEVENT
DTSTART;TZID=UTC:20240829T180000
DTEND;TZID=UTC:20240829T210000
DTSTAMP:20260424T002046
CREATED:20240815T194352Z
LAST-MODIFIED:20240815T194352Z
UID:10000109-1724954400-1724965200@www.centohretfirefighters.com
SUMMARY:Joe Conway Retirement Party
DESCRIPTION:
URL:https://www.centohretfirefighters.com/event/joe-conway-retirement-party/
LOCATION:CFD Local 67 379 West Broad Street\, Columbus\, OH\, 379 West Broad Street\, Columbus\, OH\, 43215
END:VEVENT
BEGIN:VEVENT
DTSTART;TZID=UTC:20240815T180000
DTEND;TZID=UTC:20240815T210000
DTSTAMP:20260424T002046
CREATED:20240815T194521Z
LAST-MODIFIED:20240815T194521Z
UID:10000110-1723744800-1723755600@www.centohretfirefighters.com
SUMMARY:Wally Jackson Retirement Party
DESCRIPTION:
URL:https://www.centohretfirefighters.com/event/wally-jackson-retirement-party/
LOCATION:CFD Local 67 379 West Broad Street\, Columbus\, OH\, 379 West Broad Street\, Columbus\, OH\, 43215
END:VEVENT
BEGIN:VEVENT
DTSTART;TZID=UTC:20240807T120000
DTEND;TZID=UTC:20240807T130000
DTSTAMP:20260424T002046
CREATED:20221125T144515Z
LAST-MODIFIED:20230524T141259Z
UID:10000027-1723032000-1723035600@www.centohretfirefighters.com
SUMMARY:4 Unit Meeting
DESCRIPTION:All meetings are held the 1st Wednesday of each month at 12 noon\, located at the CFD Local 67 Hall\, 379 West Broad Street.\n4 Unit Snow Emergency Policy: On days that our regularly scheduled 4 Unit meeting at 8:00 am if Franklin County is under a Level 2 Snow Emergency\, the 4 Unit policy will be that months meeting is canceled. \nNeed a Ride?  Active CFD Firefighter Spencer Stanley has received permission from CFD Chief Happ to use Fire Division transport vans to assist 4 Unit members the opportunity to attend our monthly meetings.  Obviously\, transports are limited for greater Central Ohio.  For information and to schedule a ride\, contact one of our Chaplains:  Chaplain Baker at 614-257-8560 or Chaplain Ingram at 614-402-4442
URL:https://www.centohretfirefighters.com/event/4-unit-meeting/2024-08-07/
LOCATION:CFD Local 67 379 West Broad Street\, Columbus\, OH\, 379 West Broad Street\, Columbus\, OH\, 43215
END:VEVENT
BEGIN:VEVENT
DTSTART;TZID=UTC:20240725T180000
DTEND;TZID=UTC:20240725T210000
DTSTAMP:20260424T002046
CREATED:20240616T193849Z
LAST-MODIFIED:20240616T193849Z
UID:10000108-1721930400-1721941200@www.centohretfirefighters.com
SUMMARY:Joe Bocook Retirement
DESCRIPTION:
URL:https://www.centohretfirefighters.com/event/joe-bocook-retirement/
LOCATION:CFD Local 67 379 West Broad Street\, Columbus\, OH\, 379 West Broad Street\, Columbus\, OH\, 43215
END:VEVENT
BEGIN:VEVENT
DTSTART;TZID=UTC:20240723T170000
DTEND;TZID=UTC:20240723T210000
DTSTAMP:20260424T002046
CREATED:20240507T142930Z
LAST-MODIFIED:20240507T142930Z
UID:10000105-1721754000-1721768400@www.centohretfirefighters.com
SUMMARY:Bn Ch Sean Moore\, CFD Retirement
DESCRIPTION:
URL:https://www.centohretfirefighters.com/event/bn-ch-sean-moore-cfd-retirement/
LOCATION:CFD Local 67 379 West Broad Street\, Columbus\, OH\, 379 West Broad Street\, Columbus\, OH\, 43215
END:VEVENT
BEGIN:VEVENT
DTSTART;TZID=UTC:20240703T120000
DTEND;TZID=UTC:20240703T130000
DTSTAMP:20260424T002046
CREATED:20221125T144515Z
LAST-MODIFIED:20230524T141259Z
UID:10000026-1720008000-1720011600@www.centohretfirefighters.com
SUMMARY:4 Unit Meeting
DESCRIPTION:All meetings are held the 1st Wednesday of each month at 12 noon\, located at the CFD Local 67 Hall\, 379 West Broad Street.\n4 Unit Snow Emergency Policy: On days that our regularly scheduled 4 Unit meeting at 8:00 am if Franklin County is under a Level 2 Snow Emergency\, the 4 Unit policy will be that months meeting is canceled. \nNeed a Ride?  Active CFD Firefighter Spencer Stanley has received permission from CFD Chief Happ to use Fire Division transport vans to assist 4 Unit members the opportunity to attend our monthly meetings.  Obviously\, transports are limited for greater Central Ohio.  For information and to schedule a ride\, contact one of our Chaplains:  Chaplain Baker at 614-257-8560 or Chaplain Ingram at 614-402-4442
URL:https://www.centohretfirefighters.com/event/4-unit-meeting/2024-07-03/
LOCATION:CFD Local 67 379 West Broad Street\, Columbus\, OH\, 379 West Broad Street\, Columbus\, OH\, 43215
END:VEVENT
BEGIN:VEVENT
DTSTART;TZID=UTC:20240626T170000
DTEND;TZID=UTC:20240626T210000
DTSTAMP:20260424T002046
CREATED:20240515T204756Z
LAST-MODIFIED:20240515T204756Z
UID:10000107-1719421200-1719435600@www.centohretfirefighters.com
SUMMARY:Derin Malcovsky Retirement
DESCRIPTION:
URL:https://www.centohretfirefighters.com/event/derin-malcovsky-retirement/
LOCATION:Cardo’s Pizza & Tavern\, 7897 Refugee Road\, Pickerington\, Ohio
END:VEVENT
BEGIN:VEVENT
DTSTART;TZID=UTC:20240611T130000
DTEND;TZID=UTC:20240611T170000
DTSTAMP:20260424T002046
CREATED:20240507T143059Z
LAST-MODIFIED:20240507T143059Z
UID:10000106-1718110800-1718125200@www.centohretfirefighters.com
SUMMARY:Bill Cameron Retirement - CFD
DESCRIPTION:
URL:https://www.centohretfirefighters.com/event/bill-cameron-retirement-cfd/
LOCATION:Galloway Tavern\, 1954 Galloway Road\, Galloway\, OH\, 43119
END:VEVENT
BEGIN:VEVENT
DTSTART;TZID=UTC:20240605T120000
DTEND;TZID=UTC:20240605T130000
DTSTAMP:20260424T002046
CREATED:20221125T144515Z
LAST-MODIFIED:20230524T141259Z
UID:10000025-1717588800-1717592400@www.centohretfirefighters.com
SUMMARY:4 Unit Meeting
DESCRIPTION:All meetings are held the 1st Wednesday of each month at 12 noon\, located at the CFD Local 67 Hall\, 379 West Broad Street.\n4 Unit Snow Emergency Policy: On days that our regularly scheduled 4 Unit meeting at 8:00 am if Franklin County is under a Level 2 Snow Emergency\, the 4 Unit policy will be that months meeting is canceled. \nNeed a Ride?  Active CFD Firefighter Spencer Stanley has received permission from CFD Chief Happ to use Fire Division transport vans to assist 4 Unit members the opportunity to attend our monthly meetings.  Obviously\, transports are limited for greater Central Ohio.  For information and to schedule a ride\, contact one of our Chaplains:  Chaplain Baker at 614-257-8560 or Chaplain Ingram at 614-402-4442
URL:https://www.centohretfirefighters.com/event/4-unit-meeting/2024-06-05/
LOCATION:CFD Local 67 379 West Broad Street\, Columbus\, OH\, 379 West Broad Street\, Columbus\, OH\, 43215
END:VEVENT
BEGIN:VEVENT
DTSTART;TZID=UTC:20240501T120000
DTEND;TZID=UTC:20240501T130000
DTSTAMP:20260424T002046
CREATED:20221125T144515Z
LAST-MODIFIED:20230524T141259Z
UID:10000024-1714564800-1714568400@www.centohretfirefighters.com
SUMMARY:4 Unit Meeting
DESCRIPTION:All meetings are held the 1st Wednesday of each month at 12 noon\, located at the CFD Local 67 Hall\, 379 West Broad Street.\n4 Unit Snow Emergency Policy: On days that our regularly scheduled 4 Unit meeting at 8:00 am if Franklin County is under a Level 2 Snow Emergency\, the 4 Unit policy will be that months meeting is canceled. \nNeed a Ride?  Active CFD Firefighter Spencer Stanley has received permission from CFD Chief Happ to use Fire Division transport vans to assist 4 Unit members the opportunity to attend our monthly meetings.  Obviously\, transports are limited for greater Central Ohio.  For information and to schedule a ride\, contact one of our Chaplains:  Chaplain Baker at 614-257-8560 or Chaplain Ingram at 614-402-4442
URL:https://www.centohretfirefighters.com/event/4-unit-meeting/2024-05-01/
LOCATION:CFD Local 67 379 West Broad Street\, Columbus\, OH\, 379 West Broad Street\, Columbus\, OH\, 43215
END:VEVENT
BEGIN:VEVENT
DTSTART;TZID=UTC:20240403T120000
DTEND;TZID=UTC:20240403T130000
DTSTAMP:20260424T002046
CREATED:20221125T144515Z
LAST-MODIFIED:20230524T141259Z
UID:10000023-1712145600-1712149200@www.centohretfirefighters.com
SUMMARY:4 Unit Meeting
DESCRIPTION:All meetings are held the 1st Wednesday of each month at 12 noon\, located at the CFD Local 67 Hall\, 379 West Broad Street.\n4 Unit Snow Emergency Policy: On days that our regularly scheduled 4 Unit meeting at 8:00 am if Franklin County is under a Level 2 Snow Emergency\, the 4 Unit policy will be that months meeting is canceled. \nNeed a Ride?  Active CFD Firefighter Spencer Stanley has received permission from CFD Chief Happ to use Fire Division transport vans to assist 4 Unit members the opportunity to attend our monthly meetings.  Obviously\, transports are limited for greater Central Ohio.  For information and to schedule a ride\, contact one of our Chaplains:  Chaplain Baker at 614-257-8560 or Chaplain Ingram at 614-402-4442
URL:https://www.centohretfirefighters.com/event/4-unit-meeting/2024-04-03/
LOCATION:CFD Local 67 379 West Broad Street\, Columbus\, OH\, 379 West Broad Street\, Columbus\, OH\, 43215
END:VEVENT
END:VCALENDAR