BEGIN:VCALENDAR
VERSION:2.0
PRODID:-//Central Ohio Retired Fire Fighters - ECPv6.15.20//NONSGML v1.0//EN
CALSCALE:GREGORIAN
METHOD:PUBLISH
X-WR-CALNAME:Central Ohio Retired Fire Fighters
X-ORIGINAL-URL:https://www.centohretfirefighters.com
X-WR-CALDESC:Events for Central Ohio Retired Fire Fighters
REFRESH-INTERVAL;VALUE=DURATION:PT1H
X-Robots-Tag:noindex
X-PUBLISHED-TTL:PT1H
BEGIN:VTIMEZONE
TZID:UTC
BEGIN:STANDARD
TZOFFSETFROM:+0000
TZOFFSETTO:+0000
TZNAME:UTC
DTSTART:20240101T000000
END:STANDARD
END:VTIMEZONE
BEGIN:VEVENT
DTSTART;TZID=UTC:20251216T170000
DTEND;TZID=UTC:20251216T210000
DTSTAMP:20260423T213623
CREATED:20251102T200445Z
LAST-MODIFIED:20251102T200445Z
UID:10000144-1765904400-1765918800@www.centohretfirefighters.com
SUMMARY:Rodney Warner Retirement Party
DESCRIPTION:
URL:https://www.centohretfirefighters.com/event/rodney-warner-retirement-party/
LOCATION:CFD Local 67 379 West Broad Street\, Columbus\, OH\, 379 West Broad Street\, Columbus\, OH\, 43215
END:VEVENT
BEGIN:VEVENT
DTSTART;TZID=UTC:20251211T170000
DTEND;TZID=UTC:20251211T210000
DTSTAMP:20260423T213623
CREATED:20251028T152734Z
LAST-MODIFIED:20251028T152734Z
UID:10000143-1765472400-1765486800@www.centohretfirefighters.com
SUMMARY:Lt. Steve Robertson Retirement
DESCRIPTION:
URL:https://www.centohretfirefighters.com/event/lt-steve-robertson-retirement/
LOCATION:CFD Local 67 379 West Broad Street\, Columbus\, OH\, 379 West Broad Street\, Columbus\, OH\, 43215
END:VEVENT
BEGIN:VEVENT
DTSTART;TZID=UTC:20251203T120000
DTEND;TZID=UTC:20251203T130000
DTSTAMP:20260423T213623
CREATED:20241231T215246Z
LAST-MODIFIED:20241231T215246Z
UID:10000043-1764763200-1764766800@www.centohretfirefighters.com
SUMMARY:4 Unit Meeting
DESCRIPTION:All meetings are held the 1st Wednesday of each month at 12 noon\, located at the CFD Local 67 Hall\, 379 West Broad Street.\n4 Unit Snow Emergency Policy: On days that our regularly scheduled 4 Unit meeting at 8:00 am if Franklin County is under a Level 2 Snow Emergency\, the 4 Unit policy will be that months meeting is canceled. \n 
URL:https://www.centohretfirefighters.com/event/4-unit-meeting-2/2025-12-03/
LOCATION:CFD Local 67 379 West Broad Street\, Columbus\, OH\, 379 West Broad Street\, Columbus\, OH\, 43215
END:VEVENT
BEGIN:VEVENT
DTSTART;TZID=UTC:20251113T170000
DTEND;TZID=UTC:20251113T210000
DTSTAMP:20260423T213623
CREATED:20251010T195835Z
LAST-MODIFIED:20251010T195835Z
UID:10000141-1763053200-1763067600@www.centohretfirefighters.com
SUMMARY:Ron Taylor Retirement Party
DESCRIPTION:
URL:https://www.centohretfirefighters.com/event/ron-taylor-retirement-party/
LOCATION:CFD Local 67 379 West Broad Street\, Columbus\, OH\, 379 West Broad Street\, Columbus\, OH\, 43215
END:VEVENT
BEGIN:VEVENT
DTSTART;TZID=UTC:20251105T180000
DTEND;TZID=UTC:20251105T210000
DTSTAMP:20260423T213623
CREATED:20251023T143226Z
LAST-MODIFIED:20251023T143226Z
UID:10000142-1762365600-1762376400@www.centohretfirefighters.com
SUMMARY:Chris Hiles Retirement Celebration
DESCRIPTION:
URL:https://www.centohretfirefighters.com/event/chris-hiles-retirement-celebration/
LOCATION:Roosters Pickerington\, Ohio\, 1500 Stonecreek Dr\, Pickerington\, OH\, 43147
END:VEVENT
BEGIN:VEVENT
DTSTART;TZID=UTC:20251105T120000
DTEND;TZID=UTC:20251105T130000
DTSTAMP:20260423T213623
CREATED:20250825T183100Z
LAST-MODIFIED:20250825T183100Z
UID:10000136-1762344000-1762347600@www.centohretfirefighters.com
SUMMARY:Honoring of those who passed in 2025 - 4 Unit Meeting
DESCRIPTION:
URL:https://www.centohretfirefighters.com/event/honoring-of-those-who-passed-in-2025-4-unit-meeting/
LOCATION:OH
END:VEVENT
BEGIN:VEVENT
DTSTART;TZID=UTC:20251105T120000
DTEND;TZID=UTC:20251105T130000
DTSTAMP:20260423T213623
CREATED:20241231T215246Z
LAST-MODIFIED:20241231T215246Z
UID:10000042-1762344000-1762347600@www.centohretfirefighters.com
SUMMARY:4 Unit Meeting
DESCRIPTION:All meetings are held the 1st Wednesday of each month at 12 noon\, located at the CFD Local 67 Hall\, 379 West Broad Street.\n4 Unit Snow Emergency Policy: On days that our regularly scheduled 4 Unit meeting at 8:00 am if Franklin County is under a Level 2 Snow Emergency\, the 4 Unit policy will be that months meeting is canceled. \n 
URL:https://www.centohretfirefighters.com/event/4-unit-meeting-2/2025-11-05/
LOCATION:CFD Local 67 379 West Broad Street\, Columbus\, OH\, 379 West Broad Street\, Columbus\, OH\, 43215
END:VEVENT
BEGIN:VEVENT
DTSTART;TZID=UTC:20251029T120000
DTEND;TZID=UTC:20251029T130000
DTSTAMP:20260423T213623
CREATED:20251006T211755Z
LAST-MODIFIED:20251006T211755Z
UID:10000140-1761739200-1761742800@www.centohretfirefighters.com
SUMMARY:Tim Hannum Retirement Lunch
DESCRIPTION:
URL:https://www.centohretfirefighters.com/event/tim-hannum-retirement-lunch/
LOCATION:Prairie Twp. St\, 123 Inah Ave. Columbus\, Ohio 43228
END:VEVENT
BEGIN:VEVENT
DTSTART;TZID=UTC:20251028T170000
DTEND;TZID=UTC:20251028T210000
DTSTAMP:20260423T213623
CREATED:20251003T183852Z
LAST-MODIFIED:20251003T183852Z
UID:10000139-1761670800-1761685200@www.centohretfirefighters.com
SUMMARY:Timothy Moore Retirement Party
DESCRIPTION:
URL:https://www.centohretfirefighters.com/event/timothy-moore-retirement-party/
LOCATION:CFD Local 67 379 West Broad Street\, Columbus\, OH\, 379 West Broad Street\, Columbus\, OH\, 43215
END:VEVENT
BEGIN:VEVENT
DTSTART;TZID=UTC:20251024T170000
DTEND;TZID=UTC:20251024T210000
DTSTAMP:20260423T213623
CREATED:20251003T183718Z
LAST-MODIFIED:20251003T183742Z
UID:10000138-1761325200-1761339600@www.centohretfirefighters.com
SUMMARY:Lt. Jeff Yerian Retirement Party
DESCRIPTION:
URL:https://www.centohretfirefighters.com/event/lt-jeff-yerian-retirement-party/
LOCATION:Fireman’s Park at Buckeye Lake\, 11300 Honey Creek Road\, Thornville\, OH
END:VEVENT
BEGIN:VEVENT
DTSTART;TZID=UTC:20251001T120000
DTEND;TZID=UTC:20251001T130000
DTSTAMP:20260423T213623
CREATED:20241231T215246Z
LAST-MODIFIED:20241231T215246Z
UID:10000041-1759320000-1759323600@www.centohretfirefighters.com
SUMMARY:4 Unit Meeting
DESCRIPTION:All meetings are held the 1st Wednesday of each month at 12 noon\, located at the CFD Local 67 Hall\, 379 West Broad Street.\n4 Unit Snow Emergency Policy: On days that our regularly scheduled 4 Unit meeting at 8:00 am if Franklin County is under a Level 2 Snow Emergency\, the 4 Unit policy will be that months meeting is canceled. \n 
URL:https://www.centohretfirefighters.com/event/4-unit-meeting-2/2025-10-01/
LOCATION:CFD Local 67 379 West Broad Street\, Columbus\, OH\, 379 West Broad Street\, Columbus\, OH\, 43215
END:VEVENT
BEGIN:VEVENT
DTSTART;TZID=UTC:20250918T120000
DTEND;TZID=UTC:20250918T170000
DTSTAMP:20260423T213623
CREATED:20250528T185734Z
LAST-MODIFIED:20250528T185734Z
UID:10000128-1758196800-1758214800@www.centohretfirefighters.com
SUMMARY:"Best of Both Worlds" Reunion
DESCRIPTION:
URL:https://www.centohretfirefighters.com/event/best-of-both-worlds-reunion/
LOCATION:Hilliard Moose Lodge
END:VEVENT
BEGIN:VEVENT
DTSTART;TZID=UTC:20250914T170000
DTEND;TZID=UTC:20250914T200000
DTSTAMP:20260423T213623
CREATED:20250908T154224Z
LAST-MODIFIED:20250908T154224Z
UID:10000137-1757869200-1757880000@www.centohretfirefighters.com
SUMMARY:Dan Nye Retirement Party
DESCRIPTION:
URL:https://www.centohretfirefighters.com/event/dan-nye-retirement-party/
LOCATION:Roosters Pickerington\, Ohio\, 1500 Stonecreek Dr\, Pickerington\, OH\, 43147
END:VEVENT
BEGIN:VEVENT
DTSTART;TZID=UTC:20250913T100000
DTEND;TZID=UTC:20250913T140000
DTSTAMP:20260423T213623
CREATED:20250803T183256Z
LAST-MODIFIED:20250803T183256Z
UID:10000132-1757757600-1757772000@www.centohretfirefighters.com
SUMMARY:4-Unit Picnic
DESCRIPTION:4Unit Summer Picnic 2025 (1)
URL:https://www.centohretfirefighters.com/event/4-unit-picnic-2/
LOCATION:Fireman’s Park at Buckeye Lake\, 11300 Honey Creek Road\, Thornville\, OH
END:VEVENT
BEGIN:VEVENT
DTSTART;TZID=UTC:20250823T190000
DTEND;TZID=UTC:20250823T220000
DTSTAMP:20260423T213623
CREATED:20250811T193317Z
LAST-MODIFIED:20250814T194124Z
UID:10000133-1755975600-1755986400@www.centohretfirefighters.com
SUMMARY:Lt. Richard Dispasquale Retirement Party
DESCRIPTION:
URL:https://www.centohretfirefighters.com/event/lt-richard-dispasquale-retirement-party/
LOCATION:Roosters Pickerington\, Ohio\, 1500 Stonecreek Dr\, Pickerington\, OH\, 43147
END:VEVENT
BEGIN:VEVENT
DTSTART;TZID=UTC:20250818T170000
DTEND;TZID=UTC:20250818T220000
DTSTAMP:20260423T213623
CREATED:20250803T182128Z
LAST-MODIFIED:20250803T182128Z
UID:10000130-1755536400-1755554400@www.centohretfirefighters.com
SUMMARY:Dwayne (Eddie) Conkel Retirement
DESCRIPTION:
URL:https://www.centohretfirefighters.com/event/dwayne-eddie-conkel-retirement/
LOCATION:CFD Local 67 379 West Broad Street\, Columbus\, OH\, 379 West Broad Street\, Columbus\, OH\, 43215
END:VEVENT
BEGIN:VEVENT
DTSTART;TZID=UTC:20250815T180000
DTEND;TZID=UTC:20250815T200000
DTSTAMP:20260423T213623
CREATED:20250803T182445Z
LAST-MODIFIED:20250803T182445Z
UID:10000131-1755280800-1755288000@www.centohretfirefighters.com
SUMMARY:Pat Morris Retirement
DESCRIPTION:
URL:https://www.centohretfirefighters.com/event/pat-morris-retirement/
LOCATION:PINS in Dublin (Bridge Park)\, 6558 Riverside Drive\, Dublin\, OH\, 43017
END:VEVENT
BEGIN:VEVENT
DTSTART;TZID=UTC:20250806T120000
DTEND;TZID=UTC:20250806T130000
DTSTAMP:20260423T213623
CREATED:20241231T215246Z
LAST-MODIFIED:20241231T215246Z
UID:10000039-1754481600-1754485200@www.centohretfirefighters.com
SUMMARY:4 Unit Meeting
DESCRIPTION:All meetings are held the 1st Wednesday of each month at 12 noon\, located at the CFD Local 67 Hall\, 379 West Broad Street.\n4 Unit Snow Emergency Policy: On days that our regularly scheduled 4 Unit meeting at 8:00 am if Franklin County is under a Level 2 Snow Emergency\, the 4 Unit policy will be that months meeting is canceled. \n 
URL:https://www.centohretfirefighters.com/event/4-unit-meeting-2/2025-08-06/
LOCATION:CFD Local 67 379 West Broad Street\, Columbus\, OH\, 379 West Broad Street\, Columbus\, OH\, 43215
END:VEVENT
BEGIN:VEVENT
DTSTART;VALUE=DATE:20250805
DTEND;VALUE=DATE:20250806
DTSTAMP:20260423T213623
CREATED:20250825T182824Z
LAST-MODIFIED:20250825T182824Z
UID:10000134-1754352000-1754438399@www.centohretfirefighters.com
SUMMARY:Columbus Firefighter Memorial Services
DESCRIPTION:Ceremony details will be updated when available.
URL:https://www.centohretfirefighters.com/event/columbus-firefighter-memorial-services/
LOCATION:OH
END:VEVENT
BEGIN:VEVENT
DTSTART;TZID=UTC:20250731T173000
DTEND;TZID=UTC:20250731T200000
DTSTAMP:20260423T213623
CREATED:20250721T192839Z
LAST-MODIFIED:20250721T192839Z
UID:10000129-1753983000-1753992000@www.centohretfirefighters.com
SUMMARY:Joe Hilleary Retirement Party
DESCRIPTION:
URL:https://www.centohretfirefighters.com/event/joe-hilleary-retirement-party/
LOCATION:Plank’s Cafe\, 743 South Parsons Ave\, Columbus\, Ohio
END:VEVENT
BEGIN:VEVENT
DTSTART;TZID=UTC:20250702T120000
DTEND;TZID=UTC:20250702T130000
DTSTAMP:20260423T213623
CREATED:20241231T215246Z
LAST-MODIFIED:20241231T215246Z
UID:10000038-1751457600-1751461200@www.centohretfirefighters.com
SUMMARY:4 Unit Meeting
DESCRIPTION:All meetings are held the 1st Wednesday of each month at 12 noon\, located at the CFD Local 67 Hall\, 379 West Broad Street.\n4 Unit Snow Emergency Policy: On days that our regularly scheduled 4 Unit meeting at 8:00 am if Franklin County is under a Level 2 Snow Emergency\, the 4 Unit policy will be that months meeting is canceled. \n 
URL:https://www.centohretfirefighters.com/event/4-unit-meeting-2/2025-07-02/
LOCATION:CFD Local 67 379 West Broad Street\, Columbus\, OH\, 379 West Broad Street\, Columbus\, OH\, 43215
END:VEVENT
BEGIN:VEVENT
DTSTART;TZID=UTC:20250618T170000
DTEND;TZID=UTC:20250618T210000
DTSTAMP:20260423T213623
CREATED:20250326T212614Z
LAST-MODIFIED:20250326T212614Z
UID:10000122-1750266000-1750280400@www.centohretfirefighters.com
SUMMARY:4 Unit Banquet
DESCRIPTION:
URL:https://www.centohretfirefighters.com/event/4-unit-banquet-2/
LOCATION:CFD Local 67 379 West Broad Street\, Columbus\, OH\, 379 West Broad Street\, Columbus\, OH\, 43215
END:VEVENT
BEGIN:VEVENT
DTSTART;TZID=UTC:20250614T190000
DTEND;TZID=UTC:20250614T230000
DTSTAMP:20260423T213623
CREATED:20250509T192046Z
LAST-MODIFIED:20250509T192046Z
UID:10000127-1749927600-1749942000@www.centohretfirefighters.com
SUMMARY:Jim Gray Retirement Party
DESCRIPTION:
URL:https://www.centohretfirefighters.com/event/jim-gray-retirement-party/
LOCATION:Royale Cigar Lounge\, 297 Georgesville Road\, Columbus\, OH
END:VEVENT
BEGIN:VEVENT
DTSTART;TZID=UTC:20250606T100000
DTEND;TZID=UTC:20250606T170000
DTSTAMP:20260423T213623
CREATED:20250303T161715Z
LAST-MODIFIED:20250303T161715Z
UID:10000121-1749204000-1749229200@www.centohretfirefighters.com
SUMMARY:5th Annual Box 15 Golf Outing
DESCRIPTION:
URL:https://www.centohretfirefighters.com/event/5th-annual-box-15-golf-outing/
LOCATION:The Links at Groveport
END:VEVENT
BEGIN:VEVENT
DTSTART;TZID=UTC:20250604T120000
DTEND;TZID=UTC:20250604T130000
DTSTAMP:20260423T213623
CREATED:20241231T215246Z
LAST-MODIFIED:20241231T215246Z
UID:10000037-1749038400-1749042000@www.centohretfirefighters.com
SUMMARY:4 Unit Meeting
DESCRIPTION:All meetings are held the 1st Wednesday of each month at 12 noon\, located at the CFD Local 67 Hall\, 379 West Broad Street.\n4 Unit Snow Emergency Policy: On days that our regularly scheduled 4 Unit meeting at 8:00 am if Franklin County is under a Level 2 Snow Emergency\, the 4 Unit policy will be that months meeting is canceled. \n 
URL:https://www.centohretfirefighters.com/event/4-unit-meeting-2/2025-06-04/
LOCATION:CFD Local 67 379 West Broad Street\, Columbus\, OH\, 379 West Broad Street\, Columbus\, OH\, 43215
END:VEVENT
BEGIN:VEVENT
DTSTART;TZID=UTC:20250517T160000
DTEND;TZID=UTC:20250517T210000
DTSTAMP:20260423T213623
CREATED:20250430T201608Z
LAST-MODIFIED:20250430T201746Z
UID:10000126-1747497600-1747515600@www.centohretfirefighters.com
SUMMARY:Tim Liebhart's Retirement Party
DESCRIPTION:
URL:https://www.centohretfirefighters.com/event/tim-liebharts-retirement-party/
LOCATION:Harry Buffalo\, 6150 S. Sunbury Road\, Westerville\, OH
END:VEVENT
BEGIN:VEVENT
DTSTART;TZID=UTC:20250507T120000
DTEND;TZID=UTC:20250507T130000
DTSTAMP:20260423T213623
CREATED:20241231T215246Z
LAST-MODIFIED:20241231T215246Z
UID:10000036-1746619200-1746622800@www.centohretfirefighters.com
SUMMARY:4 Unit Meeting
DESCRIPTION:All meetings are held the 1st Wednesday of each month at 12 noon\, located at the CFD Local 67 Hall\, 379 West Broad Street.\n4 Unit Snow Emergency Policy: On days that our regularly scheduled 4 Unit meeting at 8:00 am if Franklin County is under a Level 2 Snow Emergency\, the 4 Unit policy will be that months meeting is canceled. \n 
URL:https://www.centohretfirefighters.com/event/4-unit-meeting-2/2025-05-07/
LOCATION:CFD Local 67 379 West Broad Street\, Columbus\, OH\, 379 West Broad Street\, Columbus\, OH\, 43215
END:VEVENT
BEGIN:VEVENT
DTSTART;TZID=UTC:20250506T170000
DTEND;TZID=UTC:20250506T200000
DTSTAMP:20260423T213623
CREATED:20250430T201315Z
LAST-MODIFIED:20250430T201315Z
UID:10000125-1746550800-1746561600@www.centohretfirefighters.com
SUMMARY:Billy Arehart's Retirement Party
DESCRIPTION:
URL:https://www.centohretfirefighters.com/event/billy-areharts-retirement-party/
LOCATION:Roosters Pickerington\, Ohio\, 1500 Stonecreek Dr\, Pickerington\, OH\, 43147
END:VEVENT
BEGIN:VEVENT
DTSTART;TZID=UTC:20250429T173000
DTEND;TZID=UTC:20250429T210000
DTSTAMP:20260423T213623
CREATED:20250214T224212Z
LAST-MODIFIED:20250214T224212Z
UID:10000118-1745947800-1745960400@www.centohretfirefighters.com
SUMMARY:Steve Siegwardt Retirement
DESCRIPTION:
URL:https://www.centohretfirefighters.com/event/steve-siegwardt-retirement/
LOCATION:CFD Local 67 379 West Broad Street\, Columbus\, OH\, 379 West Broad Street\, Columbus\, OH\, 43215
END:VEVENT
BEGIN:VEVENT
DTSTART;TZID=UTC:20250425T173000
DTEND;TZID=UTC:20250425T200000
DTSTAMP:20260423T213623
CREATED:20250331T182443Z
LAST-MODIFIED:20250331T182443Z
UID:10000124-1745602200-1745611200@www.centohretfirefighters.com
SUMMARY:Lt. Stu Mack Retirement
DESCRIPTION:
URL:https://www.centohretfirefighters.com/event/lt-stu-mack-retirement/
LOCATION:Vinberige Vineyards\, 5400 OH-204\, Glenford\, OH\, 43739
END:VEVENT
END:VCALENDAR